BEGIN:VCALENDAR
VERSION:2.0
PRODID:-//wp-events-plugin.com//7.2.3.1//EN
TZID:America/New_York
X-WR-TIMEZONE:America/New_York
BEGIN:VEVENT
UID:469@chelseavt.org
DTSTART;TZID=America/New_York;VALUE=DATE:20250704
DTEND;TZID=America/New_York;VALUE=DATE:20250705
DTSTAMP:20250512T190538Z
URL:https://www.chelseavt.org/events/town-clerks-office-closed-2/
SUMMARY:Town Clerk's Office Closed
DESCRIPTION:Town Clerk's Office will be closed on Independence Day\, July 4
 th\, 2025
CATEGORIES:Town Clerk Office Hours
END:VEVENT
BEGIN:VTIMEZONE
TZID:America/New_York
X-LIC-LOCATION:America/New_York
BEGIN:DAYLIGHT
DTSTART:20250309T030000
TZOFFSETFROM:-0500
TZOFFSETTO:-0400
TZNAME:EDT
END:DAYLIGHT
END:VTIMEZONE
END:VCALENDAR