BEGIN:VCALENDAR
VERSION:2.0
PRODID:-//wp-events-plugin.com//7.2.3.1//EN
TZID:America/New_York
X-WR-TIMEZONE:America/New_York
BEGIN:VEVENT
UID:461@chelseavt.org
DTSTART;TZID=America/New_York:20250712T060000
DTEND;TZID=America/New_York:20250712T160000
DTSTAMP:20250211T160243Z
URL:https://www.chelseavt.org/events/annual-chelsea-flea-market/
SUMMARY:Annual Chelsea Flea Market
DESCRIPTION:Located on the Village Greens\, in Town Hall\, and the Basketba
 ll Court.
END:VEVENT
BEGIN:VTIMEZONE
TZID:America/New_York
X-LIC-LOCATION:America/New_York
BEGIN:DAYLIGHT
DTSTART:20250309T030000
TZOFFSETFROM:-0500
TZOFFSETTO:-0400
TZNAME:EDT
END:DAYLIGHT
END:VTIMEZONE
END:VCALENDAR